Workbook

Sheet Risicomatrix
B1: Risicomatrix | G1: Datum: | H1: 45659
B2: ID | C2: Beschrijving | D2: Kans (1-5) | E2: Impact (1-5) | F2: Score | G2: Classificatie | H2: Opmerkingen
B3: R1 | C3: Risico 1 | D3: 3 | E3: 4 | F3: =D3*E3 -> 12 | G3: =IF(F3<=5,"Laag",IF(F3<=12,"Middel","Hoog")) -> Middel
B4: R2 | C4: Risico 2 | D4: 2 | E4: 3 | F4: =D4*E4 -> 6 | G4: =IF(F4<=5,"Laag",IF(F4<=12,"Middel","Hoog")) -> Middel
B5: R3 | C5: Risico 3 | D5: 4 | E5: 2 | F5: =D5*E5 -> 8 | G5: =IF(F5<=5,"Laag",IF(F5<=12,"Middel","Hoog")) -> Middel
B6: R4 | C6: Risico 4 | D6: 5 | E6: 5 | F6: =D6*E6 -> 25 | G6: =IF(F6<=5,"Laag",IF(F6<=12,"Middel","Hoog")) -> Hoog
B7: R5 | C7: Risico 5 | D7: 1 | E7: 1 | F7: =D7*E7 -> 1 | G7: =IF(F7<=5,"Laag",IF(F7<=12,"Middel","Hoog")) -> Laag
B8: R6 | C8: Risico 6 | D8: 2 | E8: 4 | F8: =D8*E8 -> 8 | G8: =IF(F8<=5,"Laag",IF(F8<=12,"Middel","Hoog")) -> Middel
B9: R7 | C9: Risico 7 | D9: 3 | E9: 5 | F9: =D9*E9 -> 15 | G9: =IF(F9<=5,"Laag",IF(F9<=12,"Middel","Hoog")) -> Hoog
B10: R8 | C10: Risico 8 | D10: 4 | E10: 2 | F10: =D10*E10 -> 8 | G10: =IF(F10<=5,"Laag",IF(F10<=12,"Middel","Hoog")) -> Middel
B11: R9 | C11: Risico 9 | D11: 5 | E11: 3 | F11: =D11*E11 -> 15 | G11: =IF(F11<=5,"Laag",IF(F11<=12,"Middel","Hoog")) -> Hoog
B12: R10 | C12: Risico 10 | D12: 5 | E12: 5 | F12: =D12*E12 -> 25 | G12: =IF(F12<=5,"Laag",IF(F12<=12,"Middel","Hoog")) -> Hoog
B13: R11 | C13: Risico 11 | D13: 1 | E13: 1 | F13: =D13*E13 -> 1 | G13: =IF(F13<=5,"Laag",IF(F13<=12,"Middel","Hoog")) -> Laag
B14: R12 | C14: Risico 12 | D14: 5 | E14: 5 | F14: =D14*E14 -> 25 | G14: =IF(F14<=5,"Laag",IF(F14<=12,"Middel","Hoog")) -> Hoog
... B49: R47 | C49: Risico 47 | D49: 3 | E49: 5 | F49: =D49*E49 -> 15 | G49: =IF(F49<=5,"Laag",IF(F49<=12,"Middel","Hoog")) -> Hoog

Sheet Dashboard
B1: Dashboard Risicomanagement | G1: Datum: | H1: 45659
B2: Classificatie | C2: Aantal
B3: Laag | C3: =COUNTIF(Risicomatrix!G3:G50,"Laag") -> 8
B4: Middel | C4: =COUNTIF(Risicomatrix!G3:G50,"Middel") -> 17
B5: Hoog | C5: =COUNTIF(Risicomatrix!G3:G50,"Hoog") -> 22
B6: Totaal | C6: =SUM(C3:C5) -> 47
B8: Top 5 risico’s op score
B9: Risico ID | C9: Score
B10: =INDEX(Risicomatrix!B3:B12,MATCH(LARGE(Risicomatrix!F3:F12,1),Risicomatrix!F3:F12,0)) -> R4 | C10: =LARGE(Risicomatrix!F3:F50,1) -> 25
B11: =INDEX(Risicomatrix!B3:B12,MATCH(LARGE(Risicomatrix!F3:F12,2),Risicomatrix!F3:F12,0)) -> R4 | C11: =LARGE(Risicomatrix!F3:F50,2) -> 25
B12: =INDEX(Risicomatrix!B3:B12,MATCH(LARGE(Risicomatrix!F3:F12,3),Risicomatrix!F3:F12,0)) -> R7 | C12: =LARGE(Risicomatrix!F3:F50,3) -> 25
B13: =INDEX(Risicomatrix!B3:B12,MATCH(LARGE(Risicomatrix!F3:F12,4),Risicomatrix!F3:F12,0)) -> R7 | C13: =LARGE(Risicomatrix!F3:F50,4) -> 25
B14: =INDEX(Risicomatrix!B3:B12,MATCH(LARGE(Risicomatrix!F3:F12,5),Risicomatrix!F3:F12,0)) -> R1 | C14: =LARGE(Risicomatrix!F3:F50,5) -> 25
